BEGIN:VCALENDAR
VERSION:2.0
PRODID:-//Rune and Board - ECPv6.15.20//NONSGML v1.0//EN
CALSCALE:GREGORIAN
METHOD:PUBLISH
X-WR-CALNAME:Rune and Board
X-ORIGINAL-URL:https://runeandboard.com
X-WR-CALDESC:Events for Rune and Board
REFRESH-INTERVAL;VALUE=DURATION:PT1H
X-Robots-Tag:noindex
X-PUBLISHED-TTL:PT1H
BEGIN:VTIMEZONE
TZID:America/Los_Angeles
BEGIN:DAYLIGHT
TZOFFSETFROM:-0800
TZOFFSETTO:-0700
TZNAME:PDT
DTSTART:20250309T100000
END:DAYLIGHT
BEGIN:STANDARD
TZOFFSETFROM:-0700
TZOFFSETTO:-0800
TZNAME:PST
DTSTART:20251102T090000
END:STANDARD
BEGIN:DAYLIGHT
TZOFFSETFROM:-0800
TZOFFSETTO:-0700
TZNAME:PDT
DTSTART:20260308T100000
END:DAYLIGHT
BEGIN:STANDARD
TZOFFSETFROM:-0700
TZOFFSETTO:-0800
TZNAME:PST
DTSTART:20261101T090000
END:STANDARD
BEGIN:DAYLIGHT
TZOFFSETFROM:-0800
TZOFFSETTO:-0700
TZNAME:PDT
DTSTART:20270314T100000
END:DAYLIGHT
BEGIN:STANDARD
TZOFFSETFROM:-0700
TZOFFSETTO:-0800
TZNAME:PST
DTSTART:20271107T090000
END:STANDARD
END:VTIMEZONE
BEGIN:VTIMEZONE
TZID:UTC
BEGIN:STANDARD
TZOFFSETFROM:+0000
TZOFFSETTO:+0000
TZNAME:UTC
DTSTART:20250101T000000
END:STANDARD
END:VTIMEZONE
BEGIN:VEVENT
DTSTART;VALUE=DATE:20260510
DTEND;VALUE=DATE:20260511
DTSTAMP:20260421T012301
CREATED:20250311T031205Z
LAST-MODIFIED:20251211T234520Z
UID:10005186-1778371200-1778457599@runeandboard.com
SUMMARY:Sunday Skirmish Minis Games Open Play
DESCRIPTION:Sunday is now Open Play for other minis games – Frostgrave\, Gaslands\, Forbidden Psalm\, BattleTech\, Infinity and more!\nBring in your favorite minis game(s) to show off and play! \n$10 minimum purchase or Game Club Stamp required for table use
URL:https://runeandboard.com/event/sunday-skirmish-minis-games-open-play-9/2026-05-10/
LOCATION:Rune and Board\, 1700 NW 167th Place\, Beaverton\, OR\, 97006\, United States
CATEGORIES:Minis Games
END:VEVENT
BEGIN:VEVENT
DTSTART;TZID=America/Los_Angeles:20260510T120000
DTEND;TZID=America/Los_Angeles:20260510T150000
DTSTAMP:20260421T012301
CREATED:20250726T044013Z
LAST-MODIFIED:20251211T234556Z
UID:10004069-1778414400-1778425200@runeandboard.com
SUMMARY:Yu-Gi-Oh! High-Noon Dueling
DESCRIPTION:Bring in your decks for Yu-Gi-Oh! \n$5 Entry \nCheck-In begins at 12:00\, Event starts at 12:30 \nRounds and Prizing based on attendance
URL:https://runeandboard.com/event/yu-gi-oh-high-noon-dueling-28/2026-05-10/
LOCATION:Rune and Board\, 1700 NW 167th Place\, Beaverton\, OR\, 97006\, United States
CATEGORIES:Yu-Gi-Oh!
END:VEVENT
BEGIN:VEVENT
DTSTART;TZID=America/Los_Angeles:20260510T140000
DTEND;TZID=America/Los_Angeles:20260510T173000
DTSTAMP:20260421T012301
CREATED:20251212T005105Z
LAST-MODIFIED:20251228T222215Z
UID:10006577-1778421600-1778434200@runeandboard.com
SUMMARY:Riftbound Nexus Night
DESCRIPTION:Come in for a casual Riftbound event! \nNOTE: Players will need a Riot account linked to carde.io in order to participate \nEntry: $5 \nRounds: 3 \nPrizing: 1 promo booster per match win\, one promo pack guaranteed per player
URL:https://runeandboard.com/event/riftbound-nexus-night/2026-05-10/
END:VEVENT
BEGIN:VEVENT
DTSTART;TZID=America/Los_Angeles:20260511T150000
DTEND;TZID=America/Los_Angeles:20260511T210000
DTSTAMP:20260421T012301
CREATED:20250726T041731Z
LAST-MODIFIED:20250829T200753Z
UID:10002706-1778511600-1778533200@runeandboard.com
SUMMARY:Warhammer 40\,000 Open Play
DESCRIPTION:Warhammer 40\,000 Open Play \nA $10 minimum purchase or a R&B Game Club stamp card is required to play.
URL:https://runeandboard.com/event/warhammer-40000-open-play-146/2026-05-11/
LOCATION:Rune and Board\, 1700 NW 167th Place\, Beaverton\, OR\, 97006\, United States
CATEGORIES:40,Warhammer
END:VEVENT
BEGIN:VEVENT
DTSTART;TZID=America/Los_Angeles:20260511T180000
DTEND;TZID=America/Los_Angeles:20260511T200000
DTSTAMP:20260421T012301
CREATED:20250726T041829Z
LAST-MODIFIED:20250829T200914Z
UID:10002966-1778522400-1778529600@runeandboard.com
SUMMARY:Necro-Monday (Necromunda Open Play)
DESCRIPTION:Necromunda Open Play \nBring your gang and join a game
URL:https://runeandboard.com/event/necro-monday-necromunda-open-play-17/2026-05-11/
CATEGORIES:Necromunda
END:VEVENT
BEGIN:VEVENT
DTSTART;TZID=America/Los_Angeles:20260512T150000
DTEND;TZID=America/Los_Angeles:20260512T210000
DTSTAMP:20260421T012301
CREATED:20250726T041918Z
LAST-MODIFIED:20250726T041918Z
UID:10003227-1778598000-1778619600@runeandboard.com
SUMMARY:Warhammer Age of Sigmar Open Play
DESCRIPTION:Warhammer Age of Sigmar Open Play \n$10 minimum purchase required for participation \n 
URL:https://runeandboard.com/event/warhammer-age-of-sigmar-open-play-153/2026-05-12/
LOCATION:Rune and Board\, 1700 NW 167th Place\, Beaverton\, OR\, 97006\, United States
CATEGORIES:Age of Sigmar,Warhammer
END:VEVENT
BEGIN:VEVENT
DTSTART;TZID=America/Los_Angeles:20260512T170000
DTEND;TZID=America/Los_Angeles:20260512T210000
DTSTAMP:20260421T012301
CREATED:20250726T023605Z
LAST-MODIFIED:20250726T023605Z
UID:10002445-1778605200-1778619600@runeandboard.com
SUMMARY:Netrunner Standard Night
DESCRIPTION:Weekly meetup for the Netrunner Standard Format \nWhat is Netrunner? Find out here!  \nEvent RSVP here \nA $10 minimum purchase or a R&B Game Club stamp card is required to play. \nSnacks\, Drinks\, and NSG Netrunner cards available!
URL:https://runeandboard.com/event/netrunner-standard-night-45/2026-05-12/
LOCATION:Rune and Board\, 1700 NW 167th Place\, Beaverton\, OR\, 97006\, United States
END:VEVENT
BEGIN:VEVENT
DTSTART;TZID=America/Los_Angeles:20260513T160000
DTEND;TZID=America/Los_Angeles:20260513T210000
DTSTAMP:20260421T012301
CREATED:20260401T193139Z
LAST-MODIFIED:20260401T193139Z
UID:10007491-1778688000-1778706000@runeandboard.com
SUMMARY:Corvus Belli Infinity Game Night
DESCRIPTION:Join us for a weekly casual game night for the Sci-Fi Skirmish game INFINITY!
URL:https://runeandboard.com/event/corvus-belli-infinity-game-night/2026-05-13/
END:VEVENT
BEGIN:VEVENT
DTSTART;TZID=America/Los_Angeles:20260514T160000
DTEND;TZID=America/Los_Angeles:20260514T210000
DTSTAMP:20260421T012301
CREATED:20250726T022341Z
LAST-MODIFIED:20251212T004810Z
UID:10002184-1778774400-1778792400@runeandboard.com
SUMMARY:Magic the Gathering - Thursday Night Commander
DESCRIPTION:Magic the Gathering – Thursday Night Commander\nCapped at 28 players – first come\, first served \nPlease remember to join the event with the Magic the Gathering Companion app. If you don’t have the app\, please download and log in or setup a Wizards account here \nReceive a drawing ticket for joining the event – we will draw for assorted promotional items twice during the event. \nReceive a blue drawing ticket for every $5 you spend (to a maximum of 10 tickets) – we will draw for things like playmats\, deck boxes\, etc. \nNo more than 4 players per table \nThis is a sanctioned event – only tournament legal cards can be used
URL:https://runeandboard.com/event/magic-the-gathering-thursday-night-commander-151/2026-05-14/
LOCATION:Rune and Board\, 1700 NW 167th Place\, Beaverton\, OR\, 97006\, United States
CATEGORIES:Commander,Magic the Gathering
END:VEVENT
BEGIN:VEVENT
DTSTART;TZID=America/Los_Angeles:20260515T174500
DTEND;TZID=America/Los_Angeles:20260515T210000
DTSTAMP:20260421T012301
CREATED:20260415T224241Z
LAST-MODIFIED:20260415T224453Z
UID:10007757-1778867100-1778878800@runeandboard.com
SUMMARY:Magic Secrets of Strixhaven Standard Showdown
DESCRIPTION:R&B Standard Showdown Series\nStarting Friday\, April 24th and every Friday through May 22nd we will host this season of Standard Showdown! Throughout the series we will track match points and award 3 prizes  – 1 to 1st place\, and 2 randomly with tickets based on attendence. \nThe winners of each weekly event will also recieve this Promo Card: \n \nDetails: \n\n$10 entry per event\nEach event will be 3 rounds\nWeekly Prizes: 1 Standard Set or Play booster per match win (Limit one Universes Beyond Booster per prizeout)\n\nCheck in time: 5:45pm \nStart time: 6pm \nFormat: Standard
URL:https://runeandboard.com/event/magic-secrets-of-strixhaven-standard-showdown/2026-05-15/
CATEGORIES:Magic the Gathering,Standard
END:VEVENT
BEGIN:VEVENT
DTSTART;TZID=UTC:20260515T180000
DTEND;TZID=UTC:20260515T203000
DTSTAMP:20260421T012301
CREATED:20250802T005232Z
LAST-MODIFIED:20251211T234239Z
UID:10005530-1778868000-1778877000@runeandboard.com
SUMMARY:D&D Adventurers League w/ Lincoln
DESCRIPTION:Friday D&D w/ Lincoln \nPre-made characters using the 2024 rules will be available if the player doesn’t have access to the new rules. \nEach session is $10\, payable at the time of the event. RSVP is required\, there are a limited number of spots available.- Click Here
URL:https://runeandboard.com/event/dd-adventurers-league-w-lincoln-44/2026-05-15/
CATEGORIES:D&D Adventurers League
END:VEVENT
BEGIN:VEVENT
DTSTART;TZID=America/Los_Angeles:20260516T113000
DTEND;TZID=America/Los_Angeles:20260516T150000
DTSTAMP:20260421T012301
CREATED:20260419T205023Z
LAST-MODIFIED:20260419T210420Z
UID:10007763-1778931000-1778943600@runeandboard.com
SUMMARY:Disney Lorcana - Weekly Play
DESCRIPTION:Welcome to Rune & Board’s Weekly Lorcana Play! \nSaturdays at 11:30AM\nEntry is $10 and includes 1 Lorcana Booster per match win + available promos! \nTotal number of rounds dictated by player count.
URL:https://runeandboard.com/event/disney-lorcana-open-play-19-2/2026-05-16/
CATEGORIES:Lorcana
END:VEVENT
BEGIN:VEVENT
DTSTART;TZID=America/Los_Angeles:20260516T123000
DTEND;TZID=America/Los_Angeles:20260516T150000
DTSTAMP:20260421T012301
CREATED:20260419T211025Z
LAST-MODIFIED:20260419T211025Z
UID:10007759-1778934600-1778943600@runeandboard.com
SUMMARY:Pokemon: Mega Evolutions Chaos Rising Build and Battle Draft Prerelease
DESCRIPTION:Registration starts at 12:30 \nGameplay begins 1:00 PM \nPRE-REGISTRATION: $35 \nIn a Build & Battle Draft event\, each competitor receives a Build & Battle Box. Competitors split into groups of four and are seated in a circle. At a signal from the Organizer\, each competitor opens their 40-card Build & Battle deck first\, without revealing its contents to the other competitors. They will review the cards and when finished they will put these cards back into their Build & Battle Box. Each competitor then opens one booster pack from the Build and Battle box without revealing its contents to the other competitors. They select one card from their booster pack and put it in their box\, along with the Pokémon TCG Online code card and the non-foil Basic Energy card. Competitors then pass the remaining cards\, face down\, to the person on their left. Each competitor continues to select one card from among the cards handed to them until all the cards have been selected. This process repeats for each remaining booster pack\, with the passing pattern alternating from left to right as each new pack is opened. \nAfter all the booster packs have been opened and all the cards have been selected\, each competitor constructs a 40-card deck using only the cards in their box and any Basic Energy cards provided by the Organizer. Competitors have 20 minutes to construct their decks. \nPlayers will then play three (3) rounds with the deck they’ve created. Rounds are for four (4) prize cards\, best of one\, and 30 minutes long. \nPrize Support: 3 Pokémon Chaos Rising Booster Packs to every player upon completion of the event (distributed at the end of the event). League Prize packs and other promos will be distributed to top players.
URL:https://runeandboard.com/event/pokemon-mega-evolutions-chaos-rising-build-and-battle-draft-prerelease/
LOCATION:Rune and Board\, 1700 NW 167th Place\, Beaverton\, OR\, 97006\, United States
CATEGORIES:Pokemon TCG
END:VEVENT
BEGIN:VEVENT
DTSTART;TZID=America/Los_Angeles:20260516T130000
DTEND;TZID=America/Los_Angeles:20260516T150000
DTSTAMP:20260421T012301
CREATED:20250726T043746Z
LAST-MODIFIED:20251211T234313Z
UID:10003549-1778936400-1778943600@runeandboard.com
SUMMARY:Pokemon League
DESCRIPTION: 
URL:https://runeandboard.com/event/pokemon-league-59/2026-05-16/
LOCATION:Rune and Board\, 1700 NW 167th Place\, Beaverton\, OR\, 97006\, United States
CATEGORIES:Pokemon TCG
END:VEVENT
BEGIN:VEVENT
DTSTART;TZID=America/Los_Angeles:20260516T150000
DTEND;TZID=America/Los_Angeles:20260516T160000
DTSTAMP:20260421T012301
CREATED:20250719T182147Z
LAST-MODIFIED:20251211T234423Z
UID:10004648-1778943600-1778947200@runeandboard.com
SUMMARY:CookieRun Braverse TCG - Learn to Play
DESCRIPTION:Join us on Saturdays for CookieRun Braverse TCG Learn to Play
URL:https://runeandboard.com/event/cookierun-braverse-tcg-learn-to-play-3/2026-05-16/
CATEGORIES:CookieRun TCG
END:VEVENT
BEGIN:VEVENT
DTSTART;VALUE=DATE:20260517
DTEND;VALUE=DATE:20260518
DTSTAMP:20260421T012301
CREATED:20250311T031205Z
LAST-MODIFIED:20251211T234520Z
UID:10005187-1778976000-1779062399@runeandboard.com
SUMMARY:Sunday Skirmish Minis Games Open Play
DESCRIPTION:Sunday is now Open Play for other minis games – Frostgrave\, Gaslands\, Forbidden Psalm\, BattleTech\, Infinity and more!\nBring in your favorite minis game(s) to show off and play! \n$10 minimum purchase or Game Club Stamp required for table use
URL:https://runeandboard.com/event/sunday-skirmish-minis-games-open-play-9/2026-05-17/
LOCATION:Rune and Board\, 1700 NW 167th Place\, Beaverton\, OR\, 97006\, United States
CATEGORIES:Minis Games
END:VEVENT
BEGIN:VEVENT
DTSTART;TZID=America/Los_Angeles:20260517T120000
DTEND;TZID=America/Los_Angeles:20260517T150000
DTSTAMP:20260421T012301
CREATED:20250726T044013Z
LAST-MODIFIED:20251211T234556Z
UID:10004070-1779019200-1779030000@runeandboard.com
SUMMARY:Yu-Gi-Oh! High-Noon Dueling
DESCRIPTION:Bring in your decks for Yu-Gi-Oh! \n$5 Entry \nCheck-In begins at 12:00\, Event starts at 12:30 \nRounds and Prizing based on attendance
URL:https://runeandboard.com/event/yu-gi-oh-high-noon-dueling-28/2026-05-17/
LOCATION:Rune and Board\, 1700 NW 167th Place\, Beaverton\, OR\, 97006\, United States
CATEGORIES:Yu-Gi-Oh!
END:VEVENT
BEGIN:VEVENT
DTSTART;TZID=America/Los_Angeles:20260517T140000
DTEND;TZID=America/Los_Angeles:20260517T173000
DTSTAMP:20260421T012301
CREATED:20251212T005105Z
LAST-MODIFIED:20251228T222215Z
UID:10006578-1779026400-1779039000@runeandboard.com
SUMMARY:Riftbound Nexus Night
DESCRIPTION:Come in for a casual Riftbound event! \nNOTE: Players will need a Riot account linked to carde.io in order to participate \nEntry: $5 \nRounds: 3 \nPrizing: 1 promo booster per match win\, one promo pack guaranteed per player
URL:https://runeandboard.com/event/riftbound-nexus-night/2026-05-17/
END:VEVENT
BEGIN:VEVENT
DTSTART;TZID=America/Los_Angeles:20260518T150000
DTEND;TZID=America/Los_Angeles:20260518T210000
DTSTAMP:20260421T012301
CREATED:20250726T041731Z
LAST-MODIFIED:20250829T200753Z
UID:10002707-1779116400-1779138000@runeandboard.com
SUMMARY:Warhammer 40\,000 Open Play
DESCRIPTION:Warhammer 40\,000 Open Play \nA $10 minimum purchase or a R&B Game Club stamp card is required to play.
URL:https://runeandboard.com/event/warhammer-40000-open-play-146/2026-05-18/
LOCATION:Rune and Board\, 1700 NW 167th Place\, Beaverton\, OR\, 97006\, United States
CATEGORIES:40,Warhammer
END:VEVENT
BEGIN:VEVENT
DTSTART;TZID=America/Los_Angeles:20260518T180000
DTEND;TZID=America/Los_Angeles:20260518T200000
DTSTAMP:20260421T012301
CREATED:20250726T041829Z
LAST-MODIFIED:20250829T200914Z
UID:10002967-1779127200-1779134400@runeandboard.com
SUMMARY:Necro-Monday (Necromunda Open Play)
DESCRIPTION:Necromunda Open Play \nBring your gang and join a game
URL:https://runeandboard.com/event/necro-monday-necromunda-open-play-17/2026-05-18/
CATEGORIES:Necromunda
END:VEVENT
BEGIN:VEVENT
DTSTART;TZID=America/Los_Angeles:20260519T150000
DTEND;TZID=America/Los_Angeles:20260519T210000
DTSTAMP:20260421T012301
CREATED:20250726T041918Z
LAST-MODIFIED:20250726T041918Z
UID:10003228-1779202800-1779224400@runeandboard.com
SUMMARY:Warhammer Age of Sigmar Open Play
DESCRIPTION:Warhammer Age of Sigmar Open Play \n$10 minimum purchase required for participation \n 
URL:https://runeandboard.com/event/warhammer-age-of-sigmar-open-play-153/2026-05-19/
LOCATION:Rune and Board\, 1700 NW 167th Place\, Beaverton\, OR\, 97006\, United States
CATEGORIES:Age of Sigmar,Warhammer
END:VEVENT
BEGIN:VEVENT
DTSTART;TZID=America/Los_Angeles:20260519T170000
DTEND;TZID=America/Los_Angeles:20260519T210000
DTSTAMP:20260421T012301
CREATED:20250726T023605Z
LAST-MODIFIED:20250726T023605Z
UID:10002446-1779210000-1779224400@runeandboard.com
SUMMARY:Netrunner Standard Night
DESCRIPTION:Weekly meetup for the Netrunner Standard Format \nWhat is Netrunner? Find out here!  \nEvent RSVP here \nA $10 minimum purchase or a R&B Game Club stamp card is required to play. \nSnacks\, Drinks\, and NSG Netrunner cards available!
URL:https://runeandboard.com/event/netrunner-standard-night-45/2026-05-19/
LOCATION:Rune and Board\, 1700 NW 167th Place\, Beaverton\, OR\, 97006\, United States
END:VEVENT
BEGIN:VEVENT
DTSTART;TZID=America/Los_Angeles:20260520T160000
DTEND;TZID=America/Los_Angeles:20260520T210000
DTSTAMP:20260421T012301
CREATED:20260401T193139Z
LAST-MODIFIED:20260401T193139Z
UID:10007492-1779292800-1779310800@runeandboard.com
SUMMARY:Corvus Belli Infinity Game Night
DESCRIPTION:Join us for a weekly casual game night for the Sci-Fi Skirmish game INFINITY!
URL:https://runeandboard.com/event/corvus-belli-infinity-game-night/2026-05-20/
END:VEVENT
BEGIN:VEVENT
DTSTART;TZID=America/Los_Angeles:20260521T160000
DTEND;TZID=America/Los_Angeles:20260521T210000
DTSTAMP:20260421T012301
CREATED:20250726T022341Z
LAST-MODIFIED:20251212T004810Z
UID:10002185-1779379200-1779397200@runeandboard.com
SUMMARY:Magic the Gathering - Thursday Night Commander
DESCRIPTION:Magic the Gathering – Thursday Night Commander\nCapped at 28 players – first come\, first served \nPlease remember to join the event with the Magic the Gathering Companion app. If you don’t have the app\, please download and log in or setup a Wizards account here \nReceive a drawing ticket for joining the event – we will draw for assorted promotional items twice during the event. \nReceive a blue drawing ticket for every $5 you spend (to a maximum of 10 tickets) – we will draw for things like playmats\, deck boxes\, etc. \nNo more than 4 players per table \nThis is a sanctioned event – only tournament legal cards can be used
URL:https://runeandboard.com/event/magic-the-gathering-thursday-night-commander-151/2026-05-21/
LOCATION:Rune and Board\, 1700 NW 167th Place\, Beaverton\, OR\, 97006\, United States
CATEGORIES:Commander,Magic the Gathering
END:VEVENT
BEGIN:VEVENT
DTSTART;TZID=America/Los_Angeles:20260522T174500
DTEND;TZID=America/Los_Angeles:20260522T210000
DTSTAMP:20260421T012301
CREATED:20260415T224241Z
LAST-MODIFIED:20260415T224453Z
UID:10007758-1779471900-1779483600@runeandboard.com
SUMMARY:Magic Secrets of Strixhaven Standard Showdown
DESCRIPTION:R&B Standard Showdown Series\nStarting Friday\, April 24th and every Friday through May 22nd we will host this season of Standard Showdown! Throughout the series we will track match points and award 3 prizes  – 1 to 1st place\, and 2 randomly with tickets based on attendence. \nThe winners of each weekly event will also recieve this Promo Card: \n \nDetails: \n\n$10 entry per event\nEach event will be 3 rounds\nWeekly Prizes: 1 Standard Set or Play booster per match win (Limit one Universes Beyond Booster per prizeout)\n\nCheck in time: 5:45pm \nStart time: 6pm \nFormat: Standard
URL:https://runeandboard.com/event/magic-secrets-of-strixhaven-standard-showdown/2026-05-22/
CATEGORIES:Magic the Gathering,Standard
END:VEVENT
BEGIN:VEVENT
DTSTART;TZID=UTC:20260522T180000
DTEND;TZID=UTC:20260522T203000
DTSTAMP:20260421T012301
CREATED:20250802T005232Z
LAST-MODIFIED:20251211T234239Z
UID:10005531-1779472800-1779481800@runeandboard.com
SUMMARY:D&D Adventurers League w/ Lincoln
DESCRIPTION:Friday D&D w/ Lincoln \nPre-made characters using the 2024 rules will be available if the player doesn’t have access to the new rules. \nEach session is $10\, payable at the time of the event. RSVP is required\, there are a limited number of spots available.- Click Here
URL:https://runeandboard.com/event/dd-adventurers-league-w-lincoln-44/2026-05-22/
CATEGORIES:D&D Adventurers League
END:VEVENT
BEGIN:VEVENT
DTSTART;TZID=America/Los_Angeles:20260523T113000
DTEND;TZID=America/Los_Angeles:20260523T150000
DTSTAMP:20260421T012301
CREATED:20260419T205023Z
LAST-MODIFIED:20260419T210420Z
UID:10007764-1779535800-1779548400@runeandboard.com
SUMMARY:Disney Lorcana - Weekly Play
DESCRIPTION:Welcome to Rune & Board’s Weekly Lorcana Play! \nSaturdays at 11:30AM\nEntry is $10 and includes 1 Lorcana Booster per match win + available promos! \nTotal number of rounds dictated by player count.
URL:https://runeandboard.com/event/disney-lorcana-open-play-19-2/2026-05-23/
CATEGORIES:Lorcana
END:VEVENT
BEGIN:VEVENT
DTSTART;TZID=America/Los_Angeles:20260523T130000
DTEND;TZID=America/Los_Angeles:20260523T150000
DTSTAMP:20260421T012301
CREATED:20250726T043746Z
LAST-MODIFIED:20251211T234313Z
UID:10003550-1779541200-1779548400@runeandboard.com
SUMMARY:Pokemon League
DESCRIPTION: 
URL:https://runeandboard.com/event/pokemon-league-59/2026-05-23/
LOCATION:Rune and Board\, 1700 NW 167th Place\, Beaverton\, OR\, 97006\, United States
CATEGORIES:Pokemon TCG
END:VEVENT
BEGIN:VEVENT
DTSTART;TZID=America/Los_Angeles:20260523T150000
DTEND;TZID=America/Los_Angeles:20260523T160000
DTSTAMP:20260421T012301
CREATED:20250719T182147Z
LAST-MODIFIED:20251211T234423Z
UID:10004649-1779548400-1779552000@runeandboard.com
SUMMARY:CookieRun Braverse TCG - Learn to Play
DESCRIPTION:Join us on Saturdays for CookieRun Braverse TCG Learn to Play
URL:https://runeandboard.com/event/cookierun-braverse-tcg-learn-to-play-3/2026-05-23/
CATEGORIES:CookieRun TCG
END:VEVENT
BEGIN:VEVENT
DTSTART;VALUE=DATE:20260524
DTEND;VALUE=DATE:20260525
DTSTAMP:20260421T012301
CREATED:20250311T031205Z
LAST-MODIFIED:20251211T234520Z
UID:10005188-1779580800-1779667199@runeandboard.com
SUMMARY:Sunday Skirmish Minis Games Open Play
DESCRIPTION:Sunday is now Open Play for other minis games – Frostgrave\, Gaslands\, Forbidden Psalm\, BattleTech\, Infinity and more!\nBring in your favorite minis game(s) to show off and play! \n$10 minimum purchase or Game Club Stamp required for table use
URL:https://runeandboard.com/event/sunday-skirmish-minis-games-open-play-9/2026-05-24/
LOCATION:Rune and Board\, 1700 NW 167th Place\, Beaverton\, OR\, 97006\, United States
CATEGORIES:Minis Games
END:VEVENT
END:VCALENDAR